BEGIN:VCALENDAR
VERSION:2.0
PRODID:-//Plone.org//NONSGML plone.app.event//EN
X-WR-TIMEZONE:Europe/Madrid
BEGIN:VEVENT
SUMMARY:Contes per mirar la ràdio amb l'Albert Estengre i David Xiberta
DTSTART;TZID=Europe/Madrid;VALUE=DATE-TIME:20040918T190000
DTEND;TZID=Europe/Madrid;VALUE=DATE-TIME:20040918T200000
DTSTAMP;VALUE=DATE-TIME:20260422T122656Z
UID:750c7800740f9d17fa1976558e32e11f
CREATED;VALUE=DATE-TIME:20040918T000000Z
CATEGORIES:Festa,Infantils
LOCATION:Sala de les Bótes del Calisay
ORGANIZER:Ràdio Arenys
DESCRIPTION:25 anys de Ràdio Arenys
URL:https://arenysdemar.cat/document.php?id=13744
END:VEVENT
END:VCALENDAR