BEGIN:VCALENDAR
VERSION:2.0
PRODID:-//Plone.org//NONSGML plone.app.event//EN
X-WR-TIMEZONE:Europe/Madrid
BEGIN:VEVENT
SUMMARY:Acte institucional
DTSTART;TZID=Europe/Madrid;VALUE=DATE-TIME:20040919T120000
DTEND;TZID=Europe/Madrid;VALUE=DATE-TIME:20040919T130000
DTSTAMP;VALUE=DATE-TIME:20260422T091751Z
UID:f5624c5cf557a857dc9e5d5c6a9088c0
CREATED;VALUE=DATE-TIME:20040919T000000Z
LOCATION:Calisay/Sala noble
ORGANIZER:Ràdio Arenys
DESCRIPTION:25 anys de Ràdio Arenys
URL:https://arenysdemar.cat/document.php?id=13746
END:VEVENT
END:VCALENDAR