BEGIN:VCALENDAR
VERSION:2.0
PRODID:-//Plone.org//NONSGML plone.app.event//EN
X-WR-TIMEZONE:Europe/Madrid
BEGIN:VEVENT
SUMMARY:Concert dels anys 60
DTSTART;TZID=Europe/Madrid;VALUE=DATE-TIME:20040919T190000
DTEND;TZID=Europe/Madrid;VALUE=DATE-TIME:20040919T200000
DTSTAMP;VALUE=DATE-TIME:20260422T091837Z
UID:f21a208da8d69c56c5210da8ea33ff83
CREATED;VALUE=DATE-TIME:20040919T000000Z
CATEGORIES:Música
LOCATION:a la Sala Yesterday
ORGANIZER:Ràdio Arenys
DESCRIPTION:25 anys de Ràdio Arenys
URL:https://arenysdemar.cat/document.php?id=13747
END:VEVENT
END:VCALENDAR