BEGIN:VCALENDAR
VERSION:2.0
PRODID:-//Plone.org//NONSGML plone.app.event//EN
X-WR-TIMEZONE:Europe/Madrid
BEGIN:VEVENT
SUMMARY:6a Passejada a la Torre dels Encantats i el seu entorn
DTSTART;TZID=Europe/Madrid;VALUE=DATE-TIME:20040926T090000
DTEND;TZID=Europe/Madrid;VALUE=DATE-TIME:20040926T100000
DTSTAMP;VALUE=DATE-TIME:20260424T215250Z
UID:5a67b751b174af876d27f3ae4c4b958a
CREATED;VALUE=DATE-TIME:20040926T000000Z
LOCATION:Torre dels Encantats
ORGANIZER:Arrels Cultura. Amb la col·laboració d'Arenys Sostenible i el suport dels Ajuntaments de Caldes d'Estrac i d'Arenys de Mar
URL:https://arenysdemar.cat/document.php?id=13754
END:VEVENT
END:VCALENDAR