BEGIN:VCALENDAR
VERSION:2.0
PRODID:-//Plone.org//NONSGML plone.app.event//EN
X-WR-TIMEZONE:Europe/Madrid
BEGIN:VEVENT
SUMMARY:Mostra i pràctica d'esports tradicionals
DTSTART;TZID=Europe/Madrid;VALUE=DATE-TIME:20040925T163000
DTEND;TZID=Europe/Madrid;VALUE=DATE-TIME:20040925T173000
DTSTAMP;VALUE=DATE-TIME:20260424T121817Z
UID:57048c2fe059d59bfc6b78728ff37d4b
CREATED;VALUE=DATE-TIME:20040925T000000Z
CATEGORIES:Mostra,Infantils
LOCATION:Plaça de les Palmeres
ORGANIZER:Correllengua 04
COMMENT:Durada: fins a les 8 del vespre
DESCRIPTION:Correllengua 2004
URL:https://arenysdemar.cat/document.php?id=13758
END:VEVENT
END:VCALENDAR