BEGIN:VCALENDAR
VERSION:2.0
PRODID:-//Plone.org//NONSGML plone.app.event//EN
X-WR-TIMEZONE:Europe/Madrid
BEGIN:VEVENT
SUMMARY:Curset de fona
DTSTART;TZID=Europe/Madrid;VALUE=DATE-TIME:20040925T173000
DTEND;TZID=Europe/Madrid;VALUE=DATE-TIME:20040925T183000
DTSTAMP;VALUE=DATE-TIME:20260422T071055Z
UID:dc6832b2bd12481098893cfd95a4c02e
CREATED;VALUE=DATE-TIME:20040925T000000Z
CATEGORIES:Cursos
LOCATION:Plaça de les Palmeres
ORGANIZER:Correllengua 04
COMMENT:Durada: fins a les 8 del vespre
DESCRIPTION:Correllengua 2004
URL:https://arenysdemar.cat/document.php?id=13759
END:VEVENT
END:VCALENDAR