BEGIN:VCALENDAR
VERSION:2.0
PRODID:-//Plone.org//NONSGML plone.app.event//EN
X-WR-TIMEZONE:Europe/Madrid
BEGIN:VEVENT
SUMMARY:Conferència
DTSTART;TZID=Europe/Madrid;VALUE=DATE-TIME:20041023T190000
DTEND;TZID=Europe/Madrid;VALUE=DATE-TIME:20041023T200000
DTSTAMP;VALUE=DATE-TIME:20260422T134748Z
UID:a427158e1775097c0d708d7f89d9175c
CREATED;VALUE=DATE-TIME:20041023T000000Z
CATEGORIES:Conferència
LOCATION:Calisay/Sala noble
ORGANIZER:Centre d'Estudis Josep Baralt
COMMENT:Durada: fins a les 21 hores
DESCRIPTION:Els estils de vida de la societat arenyenca a l'època moderna a càrrec d'Alexandra Capdevila
URL:https://arenysdemar.cat/document.php?id=13765
END:VEVENT
END:VCALENDAR