BEGIN:VCALENDAR
VERSION:2.0
PRODID:-//Plone.org//NONSGML plone.app.event//EN
X-WR-TIMEZONE:Europe/Madrid
BEGIN:VEVENT
SUMMARY:Aula d'Extensió Universitària
DTSTART;TZID=Europe/Madrid;VALUE=DATE-TIME:20041019T180000
DTEND;TZID=Europe/Madrid;VALUE=DATE-TIME:20041019T190000
DTSTAMP;VALUE=DATE-TIME:20260419T211943Z
UID:c0f9a5a471fe76ddf722a2a4cc5dae05
CREATED;VALUE=DATE-TIME:20041019T000000Z
CATEGORIES:Conferència
LOCATION:Calisay/Sala J.Mª Arnau
ORGANIZER:Aula d'Extensió Universitària
DESCRIPTION:Ben educats. Criteris per una educació cívica a càrrec de Salvador Cardús, Universitat Autònoma de Barcelona
URL:https://arenysdemar.cat/document.php?id=13766
END:VEVENT
END:VCALENDAR