BEGIN:VCALENDAR
VERSION:2.0
PRODID:-//Plone.org//NONSGML plone.app.event//EN
X-WR-TIMEZONE:Europe/Madrid
BEGIN:VEVENT
SUMMARY:Diada de l'Esport
DTSTART;TZID=Europe/Madrid;VALUE=DATE-TIME:20041016T000000
DTEND;TZID=Europe/Madrid;VALUE=DATE-TIME:20041016T010000
DTSTAMP;VALUE=DATE-TIME:20260424T200606Z
UID:bc7d0950224790613fe1c126af8aa422
CREATED;VALUE=DATE-TIME:20041016T000000Z
CATEGORIES:Festa
LOCATION:Diferents llocs
ORGANIZER:Ajuntament d'Arenys de Mar
URL:https://arenysdemar.cat/document.php?id=13770
END:VEVENT
END:VCALENDAR