BEGIN:VCALENDAR
VERSION:2.0
PRODID:-//Plone.org//NONSGML plone.app.event//EN
X-WR-TIMEZONE:Europe/Madrid
BEGIN:VEVENT
SUMMARY:Conferència : La Intel·ligència emocional
DTSTART;TZID=Europe/Madrid;VALUE=DATE-TIME:20041105T200000
DTEND;TZID=Europe/Madrid;VALUE=DATE-TIME:20041105T210000
DTSTAMP;VALUE=DATE-TIME:20260422T032521Z
UID:1ef3c50fdc53311ee53b805687b5f7ea
CREATED;VALUE=DATE-TIME:20041105T000000Z
CATEGORIES:Conferència
LOCATION:Biblioteca
ORGANIZER:Biblioteca - Regidoria de Cultura
DESCRIPTION:a càrrec d'Eva Bach
URL:https://arenysdemar.cat/document.php?id=13776
END:VEVENT
END:VCALENDAR