BEGIN:VCALENDAR
VERSION:2.0
PRODID:-//Plone.org//NONSGML plone.app.event//EN
X-WR-TIMEZONE:Europe/Madrid
BEGIN:VEVENT
SUMMARY:Taller de pintura
DTSTART;TZID=Europe/Madrid;VALUE=DATE-TIME:20041002T000000
DTEND;TZID=Europe/Madrid;VALUE=DATE-TIME:20041002T010000
DTSTAMP;VALUE=DATE-TIME:20260422T034740Z
UID:5ba26c8e72a50e14eadc4696f88597e4
CREATED;VALUE=DATE-TIME:20041002T000000Z
CATEGORIES:Cursos
LOCATION:Centre d'Activitats de Proyecto Aguila
ORGANIZER:Proyecto Águila. Pau, Cultura i dignitat per a les nacions originàries d'Amèrica
COMMENT:Preu: 110 euros
Durada: fins al 3 d'octubre
URL:https://arenysdemar.cat/document.php?id=13782
END:VEVENT
END:VCALENDAR