BEGIN:VCALENDAR
VERSION:2.0
PRODID:-//Plone.org//NONSGML plone.app.event//EN
X-WR-TIMEZONE:Europe/Madrid
BEGIN:VEVENT
SUMMARY:Presentació de la novel.la Morir en agosto, de Javier Martín
DTSTART;TZID=Europe/Madrid;VALUE=DATE-TIME:20041023T200000
DTEND;TZID=Europe/Madrid;VALUE=DATE-TIME:20041023T210000
DTSTAMP;VALUE=DATE-TIME:20260419T211545Z
UID:a5812bf314ec316f308808cce571b956
CREATED;VALUE=DATE-TIME:20041023T000000Z
CATEGORIES:Literatura
LOCATION:Llibreria El Setciències
ORGANIZER:Editorial Candaya i Llibreria El Setciències
DESCRIPTION:a càrrec de David Estrada
URL:https://arenysdemar.cat/document.php?id=13783
END:VEVENT
END:VCALENDAR