BEGIN:VCALENDAR
VERSION:2.0
PRODID:-//Plone.org//NONSGML plone.app.event//EN
X-WR-TIMEZONE:Europe/Madrid
BEGIN:VEVENT
SUMMARY:1a Desfilada d'Avis Guapos
DTSTART;TZID=Europe/Madrid;VALUE=DATE-TIME:20040925T170000
DTEND;TZID=Europe/Madrid;VALUE=DATE-TIME:20040925T180000
DTSTAMP;VALUE=DATE-TIME:20260424T204537Z
UID:1aa505cd456a3b595986194d7d74f7f1
CREATED;VALUE=DATE-TIME:20040925T000000Z
CATEGORIES:Dansa,Festa,Música,Teatre
LOCATION:Asil Torrent
ORGANIZER:Perruqueria French Moda i Ajuntament d'Arenys de Mar
URL:https://arenysdemar.cat/document.php?id=13797
END:VEVENT
END:VCALENDAR