BEGIN:VCALENDAR
VERSION:2.0
PRODID:-//Plone.org//NONSGML plone.app.event//EN
X-WR-TIMEZONE:Europe/Madrid
BEGIN:VEVENT
SUMMARY:Festa del patró de la Policia Local
DTSTART;TZID=Europe/Madrid;VALUE=DATE-TIME:20041001T190000
DTEND;TZID=Europe/Madrid;VALUE=DATE-TIME:20041001T200000
DTSTAMP;VALUE=DATE-TIME:20260422T034835Z
UID:7073ec2ae6144deafcdc0ff22bffe6df
CREATED;VALUE=DATE-TIME:20041001T000000Z
CATEGORIES:Festa
LOCATION:Comissaria de la Policia Local
ORGANIZER:Regidoria de Seguretat Ciutadana
URL:https://arenysdemar.cat/document.php?id=13814
END:VEVENT
END:VCALENDAR