BEGIN:VCALENDAR
VERSION:2.0
PRODID:-//Plone.org//NONSGML plone.app.event//EN
X-WR-TIMEZONE:Europe/Madrid
BEGIN:VEVENT
SUMMARY:Aula d'Extensió Universitària
DTSTART;TZID=Europe/Madrid;VALUE=DATE-TIME:20041109T180000
DTEND;TZID=Europe/Madrid;VALUE=DATE-TIME:20041109T190000
DTSTAMP;VALUE=DATE-TIME:20260419T211810Z
UID:3fa5779d8f07a62904a94c8caeb6e7ee
CREATED;VALUE=DATE-TIME:20041109T000000Z
CATEGORIES:Conferència
LOCATION:Calisay/Sala J.Mª Arnau
ORGANIZER:Aula d'Extensió Universitària
DESCRIPTION:Taoïsme. Confuci a càrrec de Manel Ollé de la Universitat Pompeu Fabra
URL:https://arenysdemar.cat/document.php?id=13852
END:VEVENT
END:VCALENDAR