BEGIN:VCALENDAR
VERSION:2.0
PRODID:-//Plone.org//NONSGML plone.app.event//EN
X-WR-TIMEZONE:Europe/Madrid
BEGIN:VEVENT
SUMMARY:Teatre
DTSTART;TZID=Europe/Madrid;VALUE=DATE-TIME:20041107T181500
DTEND;TZID=Europe/Madrid;VALUE=DATE-TIME:20041107T191500
DTSTAMP;VALUE=DATE-TIME:20260422T014947Z
UID:a7a77b4a37620356fbb79e4373f84086
CREATED;VALUE=DATE-TIME:20041107T000000Z
CATEGORIES:Teatre
LOCATION:Teatre dels Seràfics
ORGANIZER:Federació de Teatres de Catalunya (Coordinadora del Maresme) i Grup Artístic Carles Xena
COMMENT:Preu: 6 &euro;
DESCRIPTION:Diner Negre a càrrec del Centre Parroquial de Canet de Mar
URL:https://arenysdemar.cat/document.php?id=13882
END:VEVENT
END:VCALENDAR