BEGIN:VCALENDAR
VERSION:2.0
PRODID:-//Plone.org//NONSGML plone.app.event//EN
X-WR-TIMEZONE:Europe/Madrid
BEGIN:VEVENT
SUMMARY:Teatre
DTSTART;TZID=Europe/Madrid;VALUE=DATE-TIME:20041114T181500
DTEND;TZID=Europe/Madrid;VALUE=DATE-TIME:20041114T191500
DTSTAMP;VALUE=DATE-TIME:20260424T043853Z
UID:dc429d944a711e00def9d6f6f1d90404
CREATED;VALUE=DATE-TIME:20041114T000000Z
CATEGORIES:Teatre
LOCATION:Teatre dels Seràfics
ORGANIZER:Federació de teatres de catalunya (Coordinadora del Maresme) i Grup Artístic Carles Xena
COMMENT:Preu: 6 &euro;
DESCRIPTION:Un dia només de Lluís Massimon, a càrrec del Grup el Tramvia de Mataró
URL:https://arenysdemar.cat/document.php?id=13903
END:VEVENT
END:VCALENDAR