BEGIN:VCALENDAR
VERSION:2.0
PRODID:-//Plone.org//NONSGML plone.app.event//EN
X-WR-TIMEZONE:Europe/Madrid
BEGIN:VEVENT
SUMMARY:The West end Club (musical) d'Ermenegild Siñol a càrrec del grup Filagarsa teatre de Molins de Rei
DTSTART;TZID=Europe/Madrid;VALUE=DATE-TIME:20050220T181500
DTEND;TZID=Europe/Madrid;VALUE=DATE-TIME:20050220T191500
DTSTAMP;VALUE=DATE-TIME:20260423T183019Z
UID:64686882c07f13c00c35e514b14b4515
CREATED;VALUE=DATE-TIME:20050220T000000Z
CATEGORIES:Teatre
LOCATION:Teatre dels Seràfics
ORGANIZER:Regidoria de Cultura i Grup Artístic Carles Xena
COMMENT:Preu: 6&euro; no socis, 5&euro; socis i 1&euro; estudiants
DESCRIPTION:33è Concurs de Teatre Amateur Premi Vila d'Arenys de Mar
URL:https://arenysdemar.cat/document.php?id=13922
END:VEVENT
END:VCALENDAR