BEGIN:VCALENDAR
VERSION:2.0
PRODID:-//Plone.org//NONSGML plone.app.event//EN
X-WR-TIMEZONE:Europe/Madrid
BEGIN:VEVENT
SUMMARY:Los Cuernos de Don Friolera, de Valle Inclán a carrec del grupo La Garnacha Teatro de Logroño
DTSTART;TZID=Europe/Madrid;VALUE=DATE-TIME:20050313T181500
DTEND;TZID=Europe/Madrid;VALUE=DATE-TIME:20050313T191500
DTSTAMP;VALUE=DATE-TIME:20260424T043639Z
UID:203c420d366fd0a7787a05f0433c471a
CREATED;VALUE=DATE-TIME:20050313T000000Z
CATEGORIES:Teatre
LOCATION:Teatre dels Seràfics
ORGANIZER:Regidoria de Cultura i Grup Artístic Carles Xena
COMMENT:Preu: 6&euro; no socis 5&euro; socis i 1&euro; Estudiants
DESCRIPTION:33è Concurs de Teatre Amateur Premi Vila d'Arenys de Mar
URL:https://arenysdemar.cat/document.php?id=13925
END:VEVENT
END:VCALENDAR