BEGIN:VCALENDAR
VERSION:2.0
PRODID:-//Plone.org//NONSGML plone.app.event//EN
X-WR-TIMEZONE:Europe/Madrid
BEGIN:VEVENT
SUMMARY:Darrer sopar de l'any
DTSTART;TZID=Europe/Madrid;VALUE=DATE-TIME:20041231T220000
DTEND;TZID=Europe/Madrid;VALUE=DATE-TIME:20041231T230000
DTSTAMP;VALUE=DATE-TIME:20260421T061059Z
UID:eb3365c2612ddf8f7613752e15168161
CREATED;VALUE=DATE-TIME:20041231T000000Z
CATEGORIES:Festa
LOCATION:Plaça de l'Església
ORGANIZER:Col·lectiu L'Any del Gamarús
DESCRIPTION:Nadal 2004 - Cap d'Any
URL:https://arenysdemar.cat/document.php?id=13943
END:VEVENT
END:VCALENDAR