BEGIN:VCALENDAR
VERSION:2.0
PRODID:-//Plone.org//NONSGML plone.app.event//EN
X-WR-TIMEZONE:Europe/Madrid
BEGIN:VEVENT
SUMMARY:Celebrem plegats les Dotze Campanades
DTSTART;TZID=Europe/Madrid;VALUE=DATE-TIME:20041231T235900
DTEND;TZID=Europe/Madrid;VALUE=DATE-TIME:20050101T005900
DTSTAMP;VALUE=DATE-TIME:20260424T094045Z
UID:73a5c1ba50eb4ac3c65c11379e5ccfc0
CREATED;VALUE=DATE-TIME:20041231T000000Z
CATEGORIES:Festa
LOCATION:Plaça de l'Església
ORGANIZER:Col·lectiu L'Any del Gamarús
DESCRIPTION:Nadal 2004 - Cap d'Any
URL:https://arenysdemar.cat/document.php?id=13944
END:VEVENT
END:VCALENDAR