BEGIN:VCALENDAR
VERSION:2.0
PRODID:-//Plone.org//NONSGML plone.app.event//EN
X-WR-TIMEZONE:Europe/Madrid
BEGIN:VEVENT
SUMMARY:Ball de Cap d'Any al Calisay
DTSTART;TZID=Europe/Madrid;VALUE=DATE-TIME:20041231T235900
DTEND;TZID=Europe/Madrid;VALUE=DATE-TIME:20050101T005900
DTSTAMP;VALUE=DATE-TIME:20260424T200001Z
UID:0d7484326fc47b2213f59a6db755396a
CREATED;VALUE=DATE-TIME:20041231T000000Z
CATEGORIES:Festa
LOCATION:Calisay/Sala polivalent
ORGANIZER:Col·lectiu L'Any del Gamarús
COMMENT:Preu: 10 euros
DESCRIPTION:Nadal 2004 - Cap d'Any
URL:https://arenysdemar.cat/document.php?id=13945
END:VEVENT
END:VCALENDAR