BEGIN:VCALENDAR
VERSION:2.0
PRODID:-//Plone.org//NONSGML plone.app.event//EN
X-WR-TIMEZONE:Europe/Madrid
BEGIN:VEVENT
SUMMARY:Demostració de cuina de Nadal
DTSTART;TZID=Europe/Madrid;VALUE=DATE-TIME:20041210T180000
DTEND;TZID=Europe/Madrid;VALUE=DATE-TIME:20041210T190000
DTSTAMP;VALUE=DATE-TIME:20260424T093934Z
UID:d91c2a14192474145571befdba14cb70
CREATED;VALUE=DATE-TIME:20041210T000000Z
CATEGORIES:Cursos
LOCATION:Biblioteca
ORGANIZER:Biblioteca - Regidoria de Cultura
COMMENT:Preu: 4 &euro;
DESCRIPTION:A càrrec de Mercè Mora
URL:https://arenysdemar.cat/document.php?id=13951
END:VEVENT
END:VCALENDAR