BEGIN:VCALENDAR
VERSION:2.0
PRODID:-//Plone.org//NONSGML plone.app.event//EN
X-WR-TIMEZONE:Europe/Madrid
BEGIN:VEVENT
SUMMARY:Tertúlia
DTSTART;TZID=Europe/Madrid;VALUE=DATE-TIME:20041210T190000
DTEND;TZID=Europe/Madrid;VALUE=DATE-TIME:20041210T200000
DTSTAMP;VALUE=DATE-TIME:20260419T211603Z
UID:8ad38be37d90f02f0762d64adcf7a220
CREATED;VALUE=DATE-TIME:20041210T000000Z
CATEGORIES:Conferència
LOCATION:Biblioteca
ORGANIZER:Grup Diàleg amb la Bíblia i Biblioteca - Regidoria de Cultura
DESCRIPTION:Cultura per la pau
URL:https://arenysdemar.cat/document.php?id=13953
END:VEVENT
END:VCALENDAR