BEGIN:VCALENDAR
VERSION:2.0
PRODID:-//Plone.org//NONSGML plone.app.event//EN
X-WR-TIMEZONE:Europe/Madrid
BEGIN:VEVENT
SUMMARY:Taller de puntes per a infants
DTSTART;TZID=Europe/Madrid;VALUE=DATE-TIME:20041227T100000
DTEND;TZID=Europe/Madrid;VALUE=DATE-TIME:20041227T110000
DTSTAMP;VALUE=DATE-TIME:20260423T123027Z
UID:c022f1e4a7a8114fc42ba05a0a1b8378
CREATED;VALUE=DATE-TIME:20041227T000000Z
CATEGORIES:Cursos
LOCATION:Museu Marés de la Punta
ORGANIZER:Museu d'Arenys de Mar
COMMENT:Preu: 12 &euro;
Durada: Fins al 7 de gener de 2005
URL:https://arenysdemar.cat/document.php?id=13959
END:VEVENT
END:VCALENDAR