BEGIN:VCALENDAR
VERSION:2.0
PRODID:-//Plone.org//NONSGML plone.app.event//EN
X-WR-TIMEZONE:Europe/Madrid
BEGIN:VEVENT
SUMMARY:Concert de Nadal
DTSTART;TZID=Europe/Madrid;VALUE=DATE-TIME:20041218T220000
DTEND;TZID=Europe/Madrid;VALUE=DATE-TIME:20041218T230000
DTSTAMP;VALUE=DATE-TIME:20260421T004608Z
UID:d09723aa70c213c6c075f49488ce4167
CREATED;VALUE=DATE-TIME:20041218T000000Z
CATEGORIES:Música
LOCATION:Església de Santa Maria
ORGANIZER:Societat Coral L'Esperança
COMMENT:Preu: Gratuït
URL:https://arenysdemar.cat/document.php?id=13975
END:VEVENT
END:VCALENDAR