BEGIN:VCALENDAR
VERSION:2.0
PRODID:-//Plone.org//NONSGML plone.app.event//EN
X-WR-TIMEZONE:Europe/Madrid
BEGIN:VEVENT
SUMMARY:Presentació oficial de l'organització Proyecto Aguila
DTSTART;TZID=Europe/Madrid;VALUE=DATE-TIME:20041118T193000
DTEND;TZID=Europe/Madrid;VALUE=DATE-TIME:20041118T203000
DTSTAMP;VALUE=DATE-TIME:20260423T145225Z
UID:47849eafc3083b3f16cafc03b609c917
CREATED;VALUE=DATE-TIME:20041118T000000Z
CATEGORIES:Conferència
LOCATION:Calisay/Sala noble
ORGANIZER:Proyecto Águila
URL:https://arenysdemar.cat/document.php?id=13977
END:VEVENT
END:VCALENDAR