BEGIN:VCALENDAR
VERSION:2.0
PRODID:-//Plone.org//NONSGML plone.app.event//EN
X-WR-TIMEZONE:Europe/Madrid
BEGIN:VEVENT
SUMMARY:Escola Esportiva Nadal 2004
DTSTART;TZID=Europe/Madrid;VALUE=DATE-TIME:20041223T093000
DTEND;TZID=Europe/Madrid;VALUE=DATE-TIME:20041223T103000
DTSTAMP;VALUE=DATE-TIME:20260423T165527Z
UID:c03d9378d2d634f9b8d444bc8d837789
CREATED;VALUE=DATE-TIME:20041223T000000Z
CATEGORIES:Esports
LOCATION:C.E. Fons de les Creus
ORGANIZER:Organisme Autònom Municipal d'Esports
COMMENT:Preu: 48 &euro;
Durada: fins al 7 de gener de 2005. Inscripcions a la Regidoria d'Esports del 13 al 17 de desembre.
URL:https://arenysdemar.cat/document.php?id=13982
END:VEVENT
END:VCALENDAR