BEGIN:VCALENDAR
VERSION:2.0
PRODID:-//Plone.org//NONSGML plone.app.event//EN
X-WR-TIMEZONE:Europe/Madrid
BEGIN:VEVENT
SUMMARY:Conferència-debat
DTSTART;TZID=Europe/Madrid;VALUE=DATE-TIME:20041202T200000
DTEND;TZID=Europe/Madrid;VALUE=DATE-TIME:20041202T210000
DTSTAMP;VALUE=DATE-TIME:20260422T120003Z
UID:c660c24a6c196b9f137301747009a515
CREATED;VALUE=DATE-TIME:20041202T000000Z
CATEGORIES:Conferència
LOCATION:Biblioteca
ORGANIZER:Secció de Cultura de l'Ateneu Arenyenc i Biblioteca
DESCRIPTION:Companys i els fets d'octubre del 34 a càrrec d'Agustí Barrera i Antoni López
URL:https://arenysdemar.cat/document.php?id=13990
END:VEVENT
END:VCALENDAR