BEGIN:VCALENDAR
VERSION:2.0
PRODID:-//Plone.org//NONSGML plone.app.event//EN
X-WR-TIMEZONE:Europe/Madrid
BEGIN:VEVENT
SUMMARY:Elaboració d'un trencaclosques gegant
DTSTART;TZID=Europe/Madrid;VALUE=DATE-TIME:20041211T100000
DTEND;TZID=Europe/Madrid;VALUE=DATE-TIME:20041211T110000
DTSTAMP;VALUE=DATE-TIME:20260422T042642Z
UID:2f91bf6a0bba6a8351d8a42c49c6621c
CREATED;VALUE=DATE-TIME:20041211T000000Z
CATEGORIES:Festa,Infantils
LOCATION:C. Pompeu Fabra (entre C. Malgrat i Calella)
ORGANIZER:Residència Itaca
DESCRIPTION:Marató TV3 2004
URL:https://arenysdemar.cat/document.php?id=14005
END:VEVENT
END:VCALENDAR