BEGIN:VCALENDAR
VERSION:2.0
PRODID:-//Plone.org//NONSGML plone.app.event//EN
X-WR-TIMEZONE:Europe/Madrid
BEGIN:VEVENT
SUMMARY:La precarietat laboral dels joves
DTSTART;TZID=Europe/Madrid;VALUE=DATE-TIME:20050114T213000
DTEND;TZID=Europe/Madrid;VALUE=DATE-TIME:20050114T223000
DTSTAMP;VALUE=DATE-TIME:20260423T152027Z
UID:9f7706841b303673420f4e94e9d5ed2a
CREATED;VALUE=DATE-TIME:20050114T000000Z
CATEGORIES:Conferència
LOCATION:El Casalet Parroquial (Riera del Bisbe Pol, 71)
ORGANIZER:Grup de Debat i Tertúlia d'Arenys de Mar
DESCRIPTION:A càrrec de Diana Michalewicz, insertora laboral i psicopedagoga de l'Escola Taller de Canet de Mar
URL:https://arenysdemar.cat/document.php?id=14026
END:VEVENT
END:VCALENDAR