BEGIN:VCALENDAR
VERSION:2.0
PRODID:-//Plone.org//NONSGML plone.app.event//EN
X-WR-TIMEZONE:Europe/Madrid
BEGIN:VEVENT
SUMMARY:Presentació del llibre del retaule
DTSTART;TZID=Europe/Madrid;VALUE=DATE-TIME:20041212T130000
DTEND;TZID=Europe/Madrid;VALUE=DATE-TIME:20041212T140000
DTSTAMP;VALUE=DATE-TIME:20260421T095001Z
UID:c34e3ded0f3ab9b4b2dd6986e1647c3e
CREATED;VALUE=DATE-TIME:20041212T000000Z
LOCATION:Església Parroquial
ORGANIZER:Editorial Pòrtic, Sorea, Confraria de Pescadors, Ajuntament d'Arenys de Mar, Fundació Banc Sabadell i Acesa
DESCRIPTION:"L'Esplendor de Santa Maria d'Arenys de Mar"
URL:https://arenysdemar.cat/document.php?id=14051
END:VEVENT
END:VCALENDAR