BEGIN:VCALENDAR
VERSION:2.0
PRODID:-//Plone.org//NONSGML plone.app.event//EN
X-WR-TIMEZONE:Europe/Madrid
BEGIN:VEVENT
SUMMARY:Ball de Carnaval amb l'Orquestra Grup Natural i Dj's
DTSTART;TZID=Europe/Madrid;VALUE=DATE-TIME:20050205T224500
DTEND;TZID=Europe/Madrid;VALUE=DATE-TIME:20050205T234500
DTSTAMP;VALUE=DATE-TIME:20260424T151203Z
UID:947541dded6baff328ed8b0b4899f65f
CREATED;VALUE=DATE-TIME:20050205T000000Z
CATEGORIES:Festa
LOCATION:Pavelló Municipal d'Esports
ORGANIZER:Club Arenys Bàsquet
COMMENT:Preu: Anticipada 8 &euro; al Calisay, taquilla 10 &euro; i infantil 5 &euro;
DESCRIPTION:Carnaval 2005
URL:https://arenysdemar.cat/document.php?id=14096
END:VEVENT
END:VCALENDAR