BEGIN:VCALENDAR
VERSION:2.0
PRODID:-//Plone.org//NONSGML plone.app.event//EN
X-WR-TIMEZONE:Europe/Madrid
BEGIN:VEVENT
SUMMARY:Rua d'Escoles Bressol
DTSTART;TZID=Europe/Madrid;VALUE=DATE-TIME:20050203T153000
DTEND;TZID=Europe/Madrid;VALUE=DATE-TIME:20050203T163000
DTSTAMP;VALUE=DATE-TIME:20260420T202825Z
UID:2d6579332a3309ba7bb4b4521ddaf442
CREATED;VALUE=DATE-TIME:20050203T000000Z
CATEGORIES:Infantils,Música
ORGANIZER:Escoles Bressol i regidoria de Cultura
DESCRIPTION:Carnaval 2005
URL:https://arenysdemar.cat/document.php?id=14101
END:VEVENT
END:VCALENDAR