BEGIN:VCALENDAR
VERSION:2.0
PRODID:-//Plone.org//NONSGML plone.app.event//EN
X-WR-TIMEZONE:Europe/Madrid
BEGIN:VEVENT
SUMMARY:Febrer musical: Concert de piano
DTSTART;TZID=Europe/Madrid;VALUE=DATE-TIME:20050205T203000
DTEND;TZID=Europe/Madrid;VALUE=DATE-TIME:20050205T213000
DTSTAMP;VALUE=DATE-TIME:20260423T214554Z
UID:51ec98c5337ca9db2ef802209992b38a
CREATED;VALUE=DATE-TIME:20050205T000000Z
CATEGORIES:Música
LOCATION:Calisay/Sala J.Mª Arnau
ORGANIZER:Aula d'Extensió Universitària
COMMENT:Preu: 6 &euro;
DESCRIPTION:a càrrec de Joan Miquel Hernandez Sagrera
URL:https://arenysdemar.cat/document.php?id=14128
END:VEVENT
END:VCALENDAR