BEGIN:VCALENDAR
VERSION:2.0
PRODID:-//Plone.org//NONSGML plone.app.event//EN
X-WR-TIMEZONE:Europe/Madrid
BEGIN:VEVENT
SUMMARY:Taller de demostració de ret fi
DTSTART;TZID=Europe/Madrid;VALUE=DATE-TIME:20050311T000000
DTEND;TZID=Europe/Madrid;VALUE=DATE-TIME:20050311T010000
DTSTAMP;VALUE=DATE-TIME:20260423T231115Z
UID:c0975e0dd18e59e43df00d3708f44f47
CREATED;VALUE=DATE-TIME:20050311T000000Z
CATEGORIES:Mostra
LOCATION:Centre Català d'Artesania (Passeig de Gràcia, 55. Barcelona)
ORGANIZER:Museu d'Arenys de Mar-Regidoria de Cultura, Taller de Puntes Synera , Centre Català d'Artesania
COMMENT:Durada: Dies 11 de març i 8 d'abril
URL:https://arenysdemar.cat/document.php?id=14183
END:VEVENT
END:VCALENDAR