BEGIN:VCALENDAR
VERSION:2.0
PRODID:-//Plone.org//NONSGML plone.app.event//EN
X-WR-TIMEZONE:Europe/Madrid
BEGIN:VEVENT
SUMMARY:Conferència CIMAC
DTSTART;TZID=Europe/Madrid;VALUE=DATE-TIME:20050331T170000
DTEND;TZID=Europe/Madrid;VALUE=DATE-TIME:20050331T180000
DTSTAMP;VALUE=DATE-TIME:20260420T153125Z
UID:12aba79c9660a444f9df395085e8e98f
CREATED;VALUE=DATE-TIME:20050331T000000Z
CATEGORIES:Conferència
LOCATION:Calisay/Sala noble
ORGANIZER:
Esplai d'Arenys de Mar

URL:https://arenysdemar.cat/document.php?id=14216
END:VEVENT
END:VCALENDAR