BEGIN:VCALENDAR
VERSION:2.0
PRODID:-//Plone.org//NONSGML plone.app.event//EN
X-WR-TIMEZONE:Europe/Madrid
BEGIN:VEVENT
SUMMARY:Escola Esportiva Setmana Santa '05
DTSTART;TZID=Europe/Madrid;VALUE=DATE-TIME:20050321T093000
DTEND;TZID=Europe/Madrid;VALUE=DATE-TIME:20050321T103000
DTSTAMP;VALUE=DATE-TIME:20260421T174436Z
UID:d6087d78019840f136111923580aac7e
CREATED;VALUE=DATE-TIME:20050321T000000Z
CATEGORIES:Esports
LOCATION:C.E. Fons de les Creus
ORGANIZER:Organisme Autònom Municipal d'Esports
COMMENT:Preu: 26 &euro;
Durada: fins al 24 de març de 2005
URL:https://arenysdemar.cat/document.php?id=14226
END:VEVENT
END:VCALENDAR