BEGIN:VCALENDAR
VERSION:2.0
PRODID:-//Plone.org//NONSGML plone.app.event//EN
X-WR-TIMEZONE:Europe/Madrid
BEGIN:VEVENT
SUMMARY:Actes del XXIII aniversari Penya Blanc i Blava
DTSTART;TZID=Europe/Madrid;VALUE=DATE-TIME:20050305T190000
DTEND;TZID=Europe/Madrid;VALUE=DATE-TIME:20050305T200000
DTSTAMP;VALUE=DATE-TIME:20260420T184127Z
UID:ac782affadfb7b7aec794286fd7a3da7
CREATED;VALUE=DATE-TIME:20050305T000000Z
LOCATION:Església de Santa Maria
ORGANIZER:Penya Blanc i Blava
DESCRIPTION:Missa en record dels socis difunts de la penya en el darrer any.
URL:https://arenysdemar.cat/document.php?id=14232
END:VEVENT
END:VCALENDAR