BEGIN:VCALENDAR
VERSION:2.0
PRODID:-//Plone.org//NONSGML plone.app.event//EN
X-WR-TIMEZONE:Europe/Madrid
BEGIN:VEVENT
SUMMARY:Gran Traca
DTSTART;TZID=Europe/Madrid;VALUE=DATE-TIME:20050708T224500
DTEND;TZID=Europe/Madrid;VALUE=DATE-TIME:20050708T234500
DTSTAMP;VALUE=DATE-TIME:20260420T120349Z
UID:5ddd9f5cb5edfa2e44da715df609d34c
CREATED;VALUE=DATE-TIME:20050708T000000Z
CATEGORIES:Festa
LOCATION:Riera
ORGANIZER:Ajuntament d'Arenys de Mar
URL:https://arenysdemar.cat/document.php?id=14250
END:VEVENT
END:VCALENDAR