BEGIN:VCALENDAR
VERSION:2.0
PRODID:-//Plone.org//NONSGML plone.app.event//EN
X-WR-TIMEZONE:Europe/Madrid
BEGIN:VEVENT
SUMMARY:Ball a l'Ateneu
DTSTART;TZID=Europe/Madrid;VALUE=DATE-TIME:20050305T223000
DTEND;TZID=Europe/Madrid;VALUE=DATE-TIME:20050305T233000
DTSTAMP;VALUE=DATE-TIME:20260424T054729Z
UID:8dc38734506b484d0a10c5fe6f07a78d
CREATED;VALUE=DATE-TIME:20050305T000000Z
CATEGORIES:Festa
LOCATION:Ateneu Arenyenc
ORGANIZER:Ateneu Arenyenc
DESCRIPTION:amb el Grup Costa Brava
URL:https://arenysdemar.cat/document.php?id=14259
END:VEVENT
END:VCALENDAR