BEGIN:VCALENDAR
VERSION:2.0
PRODID:-//Plone.org//NONSGML plone.app.event//EN
X-WR-TIMEZONE:Europe/Madrid
BEGIN:VEVENT
SUMMARY:La palmera de blat de Mercè Ibarz
DTSTART;TZID=Europe/Madrid;VALUE=DATE-TIME:20050307T190000
DTEND;TZID=Europe/Madrid;VALUE=DATE-TIME:20050307T200000
DTSTAMP;VALUE=DATE-TIME:20260421T063541Z
UID:d49b5a105bc50033dc30756649867b4e
CREATED;VALUE=DATE-TIME:20050307T000000Z
CATEGORIES:Literatura
LOCATION:Biblioteca
ORGANIZER:Biblioteca - Regidoria de Cultura - Institució de les Lletres Catalanes - Associació de Dones per la Igualtat
DESCRIPTION:Tertúlia de novel.la a càrrec de Teresa Montmany amb la presència de l'autora
URL:https://arenysdemar.cat/document.php?id=14264
END:VEVENT
END:VCALENDAR