BEGIN:VCALENDAR
VERSION:2.0
PRODID:-//Plone.org//NONSGML plone.app.event//EN
X-WR-TIMEZONE:Europe/Madrid
BEGIN:VEVENT
SUMMARY:Exposició Quadres
DTSTART;TZID=Europe/Madrid;VALUE=DATE-TIME:20050301T000000
DTEND;TZID=Europe/Madrid;VALUE=DATE-TIME:20050301T010000
DTSTAMP;VALUE=DATE-TIME:20260419T165719Z
UID:8e07452b84baf2c68e6e52c2d7872d86
CREATED;VALUE=DATE-TIME:20050301T000000Z
CATEGORIES:Exposició
LOCATION:Ateneu Arenyenc
ORGANIZER:Comissió de Pintura Ràpida
COMMENT:Durada: De l'1 al 31 de març
DESCRIPTION:Concurs de Pintura Ràpida
URL:https://arenysdemar.cat/document.php?id=14274
END:VEVENT
END:VCALENDAR