BEGIN:VCALENDAR
VERSION:2.0
PRODID:-//Plone.org//NONSGML plone.app.event//EN
X-WR-TIMEZONE:Europe/Madrid
BEGIN:VEVENT
SUMMARY:LinuxShow
DTSTART;TZID=Europe/Madrid;VALUE=DATE-TIME:20050305T193000
DTEND;TZID=Europe/Madrid;VALUE=DATE-TIME:20050305T203000
DTSTAMP;VALUE=DATE-TIME:20260423T103905Z
UID:41a9f9fab440ec9b29cc78cbe57e6083
CREATED;VALUE=DATE-TIME:20050305T000000Z
LOCATION:Sala Municipal d'Arenys de Munt
ORGANIZER:Arenys.Org
DESCRIPTION:FesInternet! Fem-la nostra! La Festa d'Internet
URL:https://arenysdemar.cat/document.php?id=14287
END:VEVENT
END:VCALENDAR