BEGIN:VCALENDAR
VERSION:2.0
PRODID:-//Plone.org//NONSGML plone.app.event//EN
X-WR-TIMEZONE:Europe/Madrid
BEGIN:VEVENT
SUMMARY:Xerrada: Transtorns de la son en la gent gran.
DTSTART;TZID=Europe/Madrid;VALUE=DATE-TIME:20050419T180000
DTEND;TZID=Europe/Madrid;VALUE=DATE-TIME:20050419T190000
DTSTAMP;VALUE=DATE-TIME:20260424T061056Z
UID:ab75750adc9d5a93d02aa09223fb4aaa
CREATED;VALUE=DATE-TIME:20050419T000000Z
CATEGORIES:Conferència
LOCATION:Calisay/Sala noble
ORGANIZER:
Residència Itaca

URL:https://arenysdemar.cat/document.php?id=14338
END:VEVENT
END:VCALENDAR