BEGIN:VCALENDAR
VERSION:2.0
PRODID:-//Plone.org//NONSGML plone.app.event//EN
X-WR-TIMEZONE:Europe/Madrid
BEGIN:VEVENT
SUMMARY:Els fills de l'espera de Joan Guasp
DTSTART;TZID=Europe/Madrid;VALUE=DATE-TIME:20050410T181500
DTEND;TZID=Europe/Madrid;VALUE=DATE-TIME:20050410T191500
DTSTAMP;VALUE=DATE-TIME:20260420T102944Z
UID:35b04d4c939366a458109374250dc622
CREATED;VALUE=DATE-TIME:20050410T000000Z
CATEGORIES:Teatre
LOCATION:Sala Municipal de Caldes d'Estrac
ORGANIZER:
GACX de Joventut Seràfica
i Ajuntament de Caldes d'Estrac
DESCRIPTION:Teatre
URL:https://arenysdemar.cat/document.php?id=14347
END:VEVENT
END:VCALENDAR