BEGIN:VCALENDAR
VERSION:2.0
PRODID:-//Plone.org//NONSGML plone.app.event//EN
X-WR-TIMEZONE:Europe/Madrid
BEGIN:VEVENT
SUMMARY:Kerkés Teatre i Contes: El desig del Quixot
DTSTART;TZID=Europe/Madrid;VALUE=DATE-TIME:20050507T220000
DTEND;TZID=Europe/Madrid;VALUE=DATE-TIME:20050507T230000
DTSTAMP;VALUE=DATE-TIME:20260421T231803Z
UID:660e17ad9e2deeade480b417eae1f67b
CREATED;VALUE=DATE-TIME:20050507T000000Z
CATEGORIES:Teatre
LOCATION:Calisay/Sala J.M. Arnau
ORGANIZER:Ajuntaments d'Arenys de Mar, d'Arenys de Munt, Caldes d'Estrac, Canet de Mar, Sant Andreu de Llavaneres, Sant Cebrià de Vallalta, Sant Iscle de Vallalta, Sant Pol de Mar i Sant Vicenç de Montalt
COMMENT:Preu: 7 &euro;
DESCRIPTION:Primavera de les Arts
URL:https://arenysdemar.cat/document.php?id=14380
END:VEVENT
END:VCALENDAR