BEGIN:VCALENDAR
VERSION:2.0
PRODID:-//Plone.org//NONSGML plone.app.event//EN
X-WR-TIMEZONE:Europe/Madrid
BEGIN:VEVENT
SUMMARY:Conferència Origen i expansió de la superpotència
DTSTART;TZID=Europe/Madrid;VALUE=DATE-TIME:20050419T180000
DTEND;TZID=Europe/Madrid;VALUE=DATE-TIME:20050419T190000
DTSTAMP;VALUE=DATE-TIME:20260424T024239Z
UID:d679b7eab4749185a9cc703b50c76fa4
CREATED;VALUE=DATE-TIME:20050419T000000Z
CATEGORIES:Conferència
LOCATION:Calisay/Sala J.Mª Arnau
ORGANIZER:
Aula de Extensió Universitària

DESCRIPTION:a càrrec de Pilar Royo, Professora de Història
URL:https://arenysdemar.cat/document.php?id=14389
END:VEVENT
END:VCALENDAR