BEGIN:VCALENDAR
VERSION:2.0
PRODID:-//Plone.org//NONSGML plone.app.event//EN
X-WR-TIMEZONE:Europe/Madrid
BEGIN:VEVENT
SUMMARY:Xocolatada popular
DTSTART;TZID=Europe/Madrid;VALUE=DATE-TIME:20050423T183000
DTEND;TZID=Europe/Madrid;VALUE=DATE-TIME:20050423T193000
DTSTAMP;VALUE=DATE-TIME:20260424T113424Z
UID:4d8c9130caece085c26620db68725154
CREATED;VALUE=DATE-TIME:20050423T000000Z
CATEGORIES:Infantils
LOCATION:Riera/Església
ORGANIZER:Regidoria de Cultura,
Cau Sant Francesc
i
Agrupament Escolta

DESCRIPTION:Sant Jordi 2005
URL:https://arenysdemar.cat/document.php?id=14397
END:VEVENT
END:VCALENDAR