BEGIN:VCALENDAR
VERSION:2.0
PRODID:-//Plone.org//NONSGML plone.app.event//EN
X-WR-TIMEZONE:Europe/Madrid
BEGIN:VEVENT
SUMMARY:Geni Barry quintet
DTSTART;TZID=Europe/Madrid;VALUE=DATE-TIME:20050812T230000
DTEND;TZID=Europe/Madrid;VALUE=DATE-TIME:20050813T000000
DTSTAMP;VALUE=DATE-TIME:20260426T045326Z
UID:c6bc2aeaa1ae910e28766a894cab5736
CREATED;VALUE=DATE-TIME:20050812T000000Z
CATEGORIES:Música
LOCATION:Calisay/Pati
ORGANIZER:Reg. de Cultura i
OCR

DESCRIPTION:
14è Festival de Jazz d'Arenys de Mar

URL:https://arenysdemar.cat/document.php?id=14423
END:VEVENT
END:VCALENDAR